BEGIN:VCALENDAR
VERSION:2.0
PRODID:-//Explore New Bedford - ECPv6.15.20//NONSGML v1.0//EN
CALSCALE:GREGORIAN
METHOD:PUBLISH
X-WR-CALNAME:Explore New Bedford
X-ORIGINAL-URL:https://explorenewbedford.org
X-WR-CALDESC:Events for Explore New Bedford
REFRESH-INTERVAL;VALUE=DURATION:PT1H
X-Robots-Tag:noindex
X-PUBLISHED-TTL:PT1H
BEGIN:VTIMEZONE
TZID:America/New_York
BEGIN:DAYLIGHT
TZOFFSETFROM:-0500
TZOFFSETTO:-0400
TZNAME:EDT
DTSTART:20250309T070000
END:DAYLIGHT
BEGIN:STANDARD
TZOFFSETFROM:-0400
TZOFFSETTO:-0500
TZNAME:EST
DTSTART:20251102T060000
END:STANDARD
BEGIN:DAYLIGHT
TZOFFSETFROM:-0500
TZOFFSETTO:-0400
TZNAME:EDT
DTSTART:20260308T070000
END:DAYLIGHT
BEGIN:STANDARD
TZOFFSETFROM:-0400
TZOFFSETTO:-0500
TZNAME:EST
DTSTART:20261101T060000
END:STANDARD
BEGIN:DAYLIGHT
TZOFFSETFROM:-0500
TZOFFSETTO:-0400
TZNAME:EDT
DTSTART:20270314T070000
END:DAYLIGHT
BEGIN:STANDARD
TZOFFSETFROM:-0400
TZOFFSETTO:-0500
TZNAME:EST
DTSTART:20271107T060000
END:STANDARD
END:VTIMEZONE
BEGIN:VEVENT
DTSTART;TZID=America/New_York:20260427T173000
DTEND;TZID=America/New_York:20260427T190000
DTSTAMP:20260425T082141
CREATED:20260408T192516Z
LAST-MODIFIED:20260408T192516Z
UID:264387-1777311000-1777316400@explorenewbedford.org
SUMMARY:Earth Day in Your Home: How Mass Save Can Help
DESCRIPTION:Join the City of New Bedford and HomeWorks Energy on April 27\, 2026 at 5:30 PM at the New Bedford Free Public Library to learn how the Mass Save 2026 incentives can help make your home more energy efficient. \nDiscover how Mass Save programs can help you save energy and the planet without any hassle\, and with little to no-cost. All New Bedford residents are eligible for several no-cost incentives like insulation and air-sealing. There will be an opportunity for Q&A.
URL:https://explorenewbedford.org/event/earth-day-in-your-home-how-mass-save-can-help/
LOCATION:New Bedford Public Library\, 613 Pleasant St\, New Bedford\, 02740\, United States
CATEGORIES:Educational,Free
ATTACH;FMTTYPE=image/png:https://explorenewbedford.org/wp-content/uploads/2026/04/04.22.26-1.png
END:VEVENT
END:VCALENDAR