BEGIN:VCALENDAR
VERSION:2.0
PRODID:-//Explore New Bedford - ECPv6.15.20//NONSGML v1.0//EN
CALSCALE:GREGORIAN
METHOD:PUBLISH
X-WR-CALNAME:Explore New Bedford
X-ORIGINAL-URL:https://explorenewbedford.org
X-WR-CALDESC:Events for Explore New Bedford
REFRESH-INTERVAL;VALUE=DURATION:PT1H
X-Robots-Tag:noindex
X-PUBLISHED-TTL:PT1H
BEGIN:VTIMEZONE
TZID:America/New_York
BEGIN:DAYLIGHT
TZOFFSETFROM:-0500
TZOFFSETTO:-0400
TZNAME:EDT
DTSTART:20250309T070000
END:DAYLIGHT
BEGIN:STANDARD
TZOFFSETFROM:-0400
TZOFFSETTO:-0500
TZNAME:EST
DTSTART:20251102T060000
END:STANDARD
BEGIN:DAYLIGHT
TZOFFSETFROM:-0500
TZOFFSETTO:-0400
TZNAME:EDT
DTSTART:20260308T070000
END:DAYLIGHT
BEGIN:STANDARD
TZOFFSETFROM:-0400
TZOFFSETTO:-0500
TZNAME:EST
DTSTART:20261101T060000
END:STANDARD
BEGIN:DAYLIGHT
TZOFFSETFROM:-0500
TZOFFSETTO:-0400
TZNAME:EDT
DTSTART:20270314T070000
END:DAYLIGHT
BEGIN:STANDARD
TZOFFSETFROM:-0400
TZOFFSETTO:-0500
TZNAME:EST
DTSTART:20271107T060000
END:STANDARD
END:VTIMEZONE
BEGIN:VEVENT
DTSTART;TZID=America/New_York:20260427T140000
DTEND;TZID=America/New_York:20260427T153000
DTSTAMP:20260420T052031
CREATED:20260218T153842Z
LAST-MODIFIED:20260218T153842Z
UID:10011663-1777298400-1777303800@explorenewbedford.org
SUMMARY:LIFELONG LEARNING: Short-course in the History of Photography\, 1839-1900
DESCRIPTION:Co-Led by Naomi Slipp\, Douglas and Cynthia Crocker Endowed Chair for the Chief Curator & Director of Museum Learning; Marina Dawn Wells\, Assistant Curator of History & Culture\nThis unique virtual course combines six weekly 80-minute sessions of lecture and discussion\, with a culminating hands-on workshop at the Museum. Learn what photography is and how it transformed the world directly from experts in the field using the vast resources of the NBWM photography collection as your study materials. \nEveryone walks around today with a camera in our pocket. But that was not always the case. Our world is saturated with photographic images – from magazine covers and Facebook feeds to Instagram and billboards–but have you ever stopped to wonder how these images work\, what they are trying to say to you\, or what histories they may connect with? This course introduces life-long learners to the history of photography\, from the invention of the medium in 1839 to the birth of Kodak and snapshot photography in 1900. Photographs will be studied as art objects and historical artifacts. Themes include technological innovations; debates between art photography\, commercial photography\, and documentary photography; government and private patronage; individual or collective endeavors; original and published prints; urban and landscape views; and the emergence of amateur photography as a practice. Join us to learn what photography is and how it has documented our world and experiences\, from its invention in 1839 through 1900. \nSchedule\nMarch 9 – Photography’s origins\, 1839 \nMarch 16 – Competing technologies \nMarch 23 – Wet-Plate photography \nMarch 30 – World events: photography as documentary \nApril 6 – Art vs Industry: photography as medium \nApril 13 – Kodak and the introduction of Snapshot photography \nApril 27– In-person workshop at NBWM / curator-led tour of “Look Pleasant Please”
URL:https://explorenewbedford.org/event/lifelong-learning-short-course-in-the-history-of-photography-1839-1900/2026-04-27/
LOCATION:New Bedford Whaling Museum\, 18 Johnny Cake Hill\, New Bedford\, MA\, 02740\, United States
CATEGORIES:Educational,Visual Arts
ATTACH;FMTTYPE=image/png:https://explorenewbedford.org/wp-content/uploads/2026/02/Copy-of-Copy-of-11.20.2025-First-Friday-Ad-Square-2.png
END:VEVENT
END:VCALENDAR