BEGIN:VCALENDAR
VERSION:2.0
PRODID:-//Explore New Bedford - ECPv6.15.20//NONSGML v1.0//EN
CALSCALE:GREGORIAN
METHOD:PUBLISH
X-WR-CALNAME:Explore New Bedford
X-ORIGINAL-URL:https://explorenewbedford.org
X-WR-CALDESC:Events for Explore New Bedford
REFRESH-INTERVAL;VALUE=DURATION:PT1H
X-Robots-Tag:noindex
X-PUBLISHED-TTL:PT1H
BEGIN:VTIMEZONE
TZID:America/New_York
BEGIN:DAYLIGHT
TZOFFSETFROM:-0500
TZOFFSETTO:-0400
TZNAME:EDT
DTSTART:20250309T070000
END:DAYLIGHT
BEGIN:STANDARD
TZOFFSETFROM:-0400
TZOFFSETTO:-0500
TZNAME:EST
DTSTART:20251102T060000
END:STANDARD
BEGIN:DAYLIGHT
TZOFFSETFROM:-0500
TZOFFSETTO:-0400
TZNAME:EDT
DTSTART:20260308T070000
END:DAYLIGHT
BEGIN:STANDARD
TZOFFSETFROM:-0400
TZOFFSETTO:-0500
TZNAME:EST
DTSTART:20261101T060000
END:STANDARD
BEGIN:DAYLIGHT
TZOFFSETFROM:-0500
TZOFFSETTO:-0400
TZNAME:EDT
DTSTART:20270314T070000
END:DAYLIGHT
BEGIN:STANDARD
TZOFFSETFROM:-0400
TZOFFSETTO:-0500
TZNAME:EST
DTSTART:20271107T060000
END:STANDARD
END:VTIMEZONE
BEGIN:VEVENT
DTSTART;TZID=America/New_York:20260425T200000
DTEND;TZID=America/New_York:20260425T213000
DTSTAMP:20260424T032906
CREATED:20260408T192612Z
LAST-MODIFIED:20260408T192612Z
UID:264403-1777147200-1777152600@explorenewbedford.org
SUMMARY:Zeiterion Presents Classic Albums Live: Fleetwood Mac - Rumours
DESCRIPTION:Do you remember listening to an entire album? The thrill of dropping the needle on the greatest music ever recorded? Classic Albums Live does. \nThe 1977 multi-platinum album Rumours became Fleetwood Mac’s most celebrated album and one of Top Ten best-selling albums of all time. Ranked 7th in Rolling Stone’s list of the “500 Greatest Albums of All Time” and now\, for the first time in popular music\, Rumours is recreated live on stage by Classic Albums Live with some of the best musicians performing today. Note for note\, cut for cut. \nDon’t miss the chance to relive the magic of Rumours\, performed live!
URL:https://explorenewbedford.org/event/zeiterion-presents-classic-albums-live-fleetwood-mac-rumours/
LOCATION:Zeiterion\, 684 Purchase St.\, New Bedford\, M\, 02740\, United States
CATEGORIES:Downtown,Entertainment
ATTACH;FMTTYPE=image/jpeg:https://explorenewbedford.org/wp-content/uploads/2026/04/fleetwoodsocials_H-1-scaled.jpg
END:VEVENT
END:VCALENDAR